BEGIN:VCALENDAR
VERSION:2.0
PRODID:-//MEO FOUNDATION - ECPv5.3.1.1//NONSGML v1.0//EN
CALSCALE:GREGORIAN
METHOD:PUBLISH
X-WR-CALNAME:MEO FOUNDATION
X-ORIGINAL-URL:http://www.meofoundation.ng
X-WR-CALDESC:Events for MEO FOUNDATION
BEGIN:VTIMEZONE
TZID:UTC
BEGIN:STANDARD
TZOFFSETFROM:+0000
TZOFFSETTO:+0000
TZNAME:UTC
DTSTART:20200101T000000
END:STANDARD
END:VTIMEZONE
BEGIN:VEVENT
DTSTART;TZID=UTC:20200819T140000
DTEND;TZID=UTC:20200819T170000
DTSTAMP:20260419T193624
CREATED:20181126T110612Z
LAST-MODIFIED:20201126T140624Z
UID:86-1597845600-1597856400@www.meofoundation.ng
SUMMARY:MEOF End of the year Goodies
DESCRIPTION:It is getting to that time of the year when people celebrate and merry. We understand how tough and demanding the year 2020 has been and the impact of Covid19 on the global economy. \nEven amidst the fractured economy\, MEOF will put smile on the faces of some of our fellow citizens whose hope of having anything to hang on during the holidays is very low. We shall be sharing rice\, grandnut oil and chickens. \nWatchout on this page for more details. \n\n\n\n\n\n\n\n\n\n\n\n\n\n\nOur Fundraising Program
URL:http://www.meofoundation.ng/event/endofyear-goodies/
CATEGORIES:Upcoming Events
ATTACH;FMTTYPE=image/jpeg:http://www.meofoundation.ng/wp-content/uploads/2018/11/goodies3.jpg
END:VEVENT
END:VCALENDAR